BEGIN:VCALENDAR
VERSION:2.0
PRODID:-//Nordiska Textilakademin - ECPv6.15.17//NONSGML v1.0//EN
CALSCALE:GREGORIAN
METHOD:PUBLISH
X-ORIGINAL-URL:https://www.nordiskatextilakademin.se
X-WR-CALDESC:Händelser för Nordiska Textilakademin
REFRESH-INTERVAL;VALUE=DURATION:PT1H
X-Robots-Tag:noindex
X-PUBLISHED-TTL:PT1H
BEGIN:VTIMEZONE
TZID:Europe/Stockholm
BEGIN:DAYLIGHT
TZOFFSETFROM:+0100
TZOFFSETTO:+0200
TZNAME:CEST
DTSTART:20220327T010000
END:DAYLIGHT
BEGIN:STANDARD
TZOFFSETFROM:+0200
TZOFFSETTO:+0100
TZNAME:CET
DTSTART:20221030T010000
END:STANDARD
BEGIN:DAYLIGHT
TZOFFSETFROM:+0100
TZOFFSETTO:+0200
TZNAME:CEST
DTSTART:20230326T010000
END:DAYLIGHT
BEGIN:STANDARD
TZOFFSETFROM:+0200
TZOFFSETTO:+0100
TZNAME:CET
DTSTART:20231029T010000
END:STANDARD
BEGIN:DAYLIGHT
TZOFFSETFROM:+0100
TZOFFSETTO:+0200
TZNAME:CEST
DTSTART:20240331T010000
END:DAYLIGHT
BEGIN:STANDARD
TZOFFSETFROM:+0200
TZOFFSETTO:+0100
TZNAME:CET
DTSTART:20241027T010000
END:STANDARD
END:VTIMEZONE
BEGIN:VEVENT
DTSTART;TZID=Europe/Stockholm:20231003T100000
DTEND;TZID=Europe/Stockholm:20231003T143000
DTSTAMP:20260421T132804
CREATED:20230919T085647Z
LAST-MODIFIED:20230919T090641Z
UID:9544-1696327200-1696343400@www.nordiskatextilakademin.se
SUMMARY:Seminariedag
DESCRIPTION:Välkommen till ett seminarium i två delar där vi samlar deltagarna från för- och eftermiddagen för gemensam lunch. Under förmiddagen diskuteras vilken typ av kunskap framtida medarbetare bör ha för att uppfylla de förväntade målen för en cirkulär industri? Och under eftermiddagen fördjupar vi oss i hur vi tillsammans kan skapa möjligheter som bidrar till en lönsam cirkulär textil produktion och återvinning? Vi pratar möjligheter & utmaningar inför det cirkulära skiftet. Seminariumet arrangeras som en del av Näringslivsdagarna i Borås av Textile Movement\, Transitions EU och Nordiska Textilakademin. Läs mer och boka din plats här. 
URL:https://www.nordiskatextilakademin.se/kalender/seminariedag/
LOCATION:Nordiska Textilakademin\, Skaraborgsvägen 3A\, Borås\, Västra Götaland\, 50630\, Sweden
ATTACH;FMTTYPE=image/png:https://www.nordiskatextilakademin.se/wp-content/uploads/2023/09/Save-the-date-transitions-VER4-600-×-400-px.png
ORGANIZER;CN="Nordiska Textilakademin":MAILTO:info@nordiskatextilakademin.se
END:VEVENT
END:VCALENDAR