BEGIN:VCALENDAR
VERSION:2.0
PRODID:-//Nordiska Textilakademin - ECPv6.15.17//NONSGML v1.0//EN
CALSCALE:GREGORIAN
METHOD:PUBLISH
X-WR-CALNAME:Nordiska Textilakademin
X-ORIGINAL-URL:https://www.nordiskatextilakademin.se
X-WR-CALDESC:Händelser för Nordiska Textilakademin
REFRESH-INTERVAL;VALUE=DURATION:PT1H
X-Robots-Tag:noindex
X-PUBLISHED-TTL:PT1H
BEGIN:VTIMEZONE
TZID:Europe/Stockholm
BEGIN:DAYLIGHT
TZOFFSETFROM:+0100
TZOFFSETTO:+0200
TZNAME:CEST
DTSTART:20230326T010000
END:DAYLIGHT
BEGIN:STANDARD
TZOFFSETFROM:+0200
TZOFFSETTO:+0100
TZNAME:CET
DTSTART:20231029T010000
END:STANDARD
BEGIN:DAYLIGHT
TZOFFSETFROM:+0100
TZOFFSETTO:+0200
TZNAME:CEST
DTSTART:20240331T010000
END:DAYLIGHT
BEGIN:STANDARD
TZOFFSETFROM:+0200
TZOFFSETTO:+0100
TZNAME:CET
DTSTART:20241027T010000
END:STANDARD
BEGIN:DAYLIGHT
TZOFFSETFROM:+0100
TZOFFSETTO:+0200
TZNAME:CEST
DTSTART:20250330T010000
END:DAYLIGHT
BEGIN:STANDARD
TZOFFSETFROM:+0200
TZOFFSETTO:+0100
TZNAME:CET
DTSTART:20251026T010000
END:STANDARD
END:VTIMEZONE
BEGIN:VEVENT
DTSTART;TZID=Europe/Stockholm:20240127T100000
DTEND;TZID=Europe/Stockholm:20240127T150000
DTSTAMP:20260421T151224
CREATED:20231201T152639Z
LAST-MODIFIED:20260108T121058Z
UID:9986-1706349600-1706367600@www.nordiskatextilakademin.se
SUMMARY:Öppet hus textila utbildningar i Borås
DESCRIPTION:Börja i Borås\, nå hur långt som helst! (I textil- och modebranschen) 🙂 \nDen 27 januari 2024 slår vi upp portarna till ett öppet hus på Textile Fashion Center. Nordiska Textilakademin kommer tillsammans med Textilhögskolan\, Yrkeshögskolan Borås och Komvux att visa upp alla textila utbildningar i Borås. \nMer detaljer kring programpunkter hos oss på Nordiska Textilakademin under dagen kommer\, men missa inte chansen att uppleva huset (Textile Fashion Center)\, våra lokaler\, och prata med våra studerande\, ämnesledare och koordinatorer. Varför inte passa på att besöka Textilmuseet när du ändå är här som har fri entré under denna dag! \nVi ses den 27:e januari klockan 10.00 – 15.00
URL:https://www.nordiskatextilakademin.se/kalender/oppet-hus-textila-utbildningar-i-boras/
LOCATION:Textile Fashion Center\, Skaraborgsvägen 3A\, Borås\, Västra Götaland\, 506 30\, Sverige
ATTACH;FMTTYPE=image/jpeg:https://www.nordiskatextilakademin.se/wp-content/uploads/2023/12/oppet-hus-scaled.jpg
END:VEVENT
END:VCALENDAR