BEGIN:VCALENDAR
VERSION:2.0
PRODID:-//Nordiska Textilakademin - ECPv6.15.17//NONSGML v1.0//EN
CALSCALE:GREGORIAN
METHOD:PUBLISH
X-ORIGINAL-URL:https://www.nordiskatextilakademin.se
X-WR-CALDESC:Händelser för Nordiska Textilakademin
REFRESH-INTERVAL;VALUE=DURATION:PT1H
X-Robots-Tag:noindex
X-PUBLISHED-TTL:PT1H
BEGIN:VTIMEZONE
TZID:Europe/Stockholm
BEGIN:DAYLIGHT
TZOFFSETFROM:+0100
TZOFFSETTO:+0200
TZNAME:CEST
DTSTART:20220327T010000
END:DAYLIGHT
BEGIN:STANDARD
TZOFFSETFROM:+0200
TZOFFSETTO:+0100
TZNAME:CET
DTSTART:20221030T010000
END:STANDARD
BEGIN:DAYLIGHT
TZOFFSETFROM:+0100
TZOFFSETTO:+0200
TZNAME:CEST
DTSTART:20230326T010000
END:DAYLIGHT
BEGIN:STANDARD
TZOFFSETFROM:+0200
TZOFFSETTO:+0100
TZNAME:CET
DTSTART:20231029T010000
END:STANDARD
BEGIN:DAYLIGHT
TZOFFSETFROM:+0100
TZOFFSETTO:+0200
TZNAME:CEST
DTSTART:20240331T010000
END:DAYLIGHT
BEGIN:STANDARD
TZOFFSETFROM:+0200
TZOFFSETTO:+0100
TZNAME:CET
DTSTART:20241027T010000
END:STANDARD
END:VTIMEZONE
BEGIN:VEVENT
DTSTART;TZID=Europe/Stockholm:20230921T090000
DTEND;TZID=Europe/Stockholm:20230921T130000
DTSTAMP:20260421T132836
CREATED:20230908T090451Z
LAST-MODIFIED:20230919T090804Z
UID:9267-1695286800-1695301200@www.nordiskatextilakademin.se
SUMMARY:”Säkra kompetensen” - workshop om strategisk kompetensförsörjning i Borås
DESCRIPTION:Vill du säkra din affär med rätt kompetens? Anmäl dig då till vår workshop ”Säkra kompetensen”. \nTillsammans med andra företag i Borås med omnejd får du ta del av handfasta metoder och verktyg för att arbeta strategiskt med kompetensförsörjningsfrågor. Se workshoppen som en kickstart! \nVi börjar med att använda ARUBA modellen för att göra en självskattning av hur företaget arbetar med att Attrahera\, Rekrytera\, Utveckla\, Behålla och även Avveckla kompetens idag. \nEn omvärldsanalys ger oss förutsättningar och sedan är det dags för konkreta metoder och verktyg. Lunch ingår och vi avslutar med att stämma av hur nästa steg ser ut för dig internt. \nWorkshopen är en del av Kompetensakademin\, som drivs av Nordiska Textilakademin tillsammans med IUC Sjuhärad och finansieras av Boråsregionen Sjuhärads kommunalförbund. Det är kostnadsfritt att delta. \nVi erbjuder ett individuellt uppföljningssamtal för ditt företag efter workshoppen\, också kostnadsfri såklart. \nVälkommen att boka din plats. 
URL:https://www.nordiskatextilakademin.se/kalender/sakra-kompetensen-workshop-om-strategisk-kompetensforsorjning-i-boras/
LOCATION:Textile Fashion Center\, Skaraborgsvägen 3A\, Borås\, Västra Götaland\, 506 30\, Sverige
ATTACH;FMTTYPE=image/png:https://www.nordiskatextilakademin.se/wp-content/uploads/2023/09/KA-bild-utan-text-1920x1080px.png
ORGANIZER;CN="Nordiska Textilakademin":MAILTO:agneta@nordiskatextilakademin.se
END:VEVENT
BEGIN:VEVENT
DTSTART;TZID=Europe/Stockholm:20230928T090000
DTEND;TZID=Europe/Stockholm:20230928T130000
DTSTAMP:20260421T132836
CREATED:20230919T075719Z
LAST-MODIFIED:20230919T092947Z
UID:9445-1695891600-1695906000@www.nordiskatextilakademin.se
SUMMARY:"Säkra kompetensen"- workshop om strategisk kompetensförsörjning i Mark
DESCRIPTION:Vill du säkra din affär med rätt kompetens? Anmäl dig då till vår workshop ”Säkra kompetensen”. \nTillsammans med andra företag i Borås med omnejd får du ta del av handfasta metoder och verktyg för att arbeta strategiskt med kompetensförsörjningsfrågor. Se workshoppen som en kickstart! \nVi börjar med att använda ARUBA modellen för att göra en självskattning av hur företaget arbetar med att Attrahera\, Rekrytera\, Utveckla\, Behålla och även Avveckla kompetens idag. \nEn omvärldsanalys ger oss förutsättningar och sedan är det dags för konkreta metoder och verktyg. Lunch ingår och vi avslutar med att stämma av hur nästa steg ser ut för dig internt. \nWorkshopen är en del av Kompetensakademin\, som drivs av Nordiska Textilakademin tillsammans med IUC Sjuhärad och finansieras av Boråsregionen Sjuhärads kommunalförbund. Det är kostnadsfritt att delta. \nVi erbjuder ett individuellt uppföljningssamtal för ditt företag efter workshoppen\, också kostnadsfri såklart. \nVälkommen att boka din plats här.
URL:https://www.nordiskatextilakademin.se/kalender/sakra-kompetensen-workshop-om-strategisk-kompetensforsorjning-i-mark/
LOCATION:Skene Star Anatolia Grill\, Industrigatan 2\, Skene\, 51162\, Sverige
ATTACH;FMTTYPE=image/png:https://www.nordiskatextilakademin.se/wp-content/uploads/2023/09/KA-bild-utan-text-1920x1080px.png
ORGANIZER;CN="Nordiska Textilakademin":MAILTO:info@nordiskatextilakademin.se
END:VEVENT
END:VCALENDAR