BEGIN:VCALENDAR
VERSION:2.0
PRODID:-//Nordiska Textilakademin - ECPv6.15.17//NONSGML v1.0//EN
CALSCALE:GREGORIAN
METHOD:PUBLISH
X-WR-CALNAME:Nordiska Textilakademin
X-ORIGINAL-URL:https://www.nordiskatextilakademin.se
X-WR-CALDESC:Händelser för Nordiska Textilakademin
REFRESH-INTERVAL;VALUE=DURATION:PT1H
X-Robots-Tag:noindex
X-PUBLISHED-TTL:PT1H
BEGIN:VTIMEZONE
TZID:Europe/Stockholm
BEGIN:DAYLIGHT
TZOFFSETFROM:+0100
TZOFFSETTO:+0200
TZNAME:CEST
DTSTART:20220327T010000
END:DAYLIGHT
BEGIN:STANDARD
TZOFFSETFROM:+0200
TZOFFSETTO:+0100
TZNAME:CET
DTSTART:20221030T010000
END:STANDARD
BEGIN:DAYLIGHT
TZOFFSETFROM:+0100
TZOFFSETTO:+0200
TZNAME:CEST
DTSTART:20230326T010000
END:DAYLIGHT
BEGIN:STANDARD
TZOFFSETFROM:+0200
TZOFFSETTO:+0100
TZNAME:CET
DTSTART:20231029T010000
END:STANDARD
BEGIN:DAYLIGHT
TZOFFSETFROM:+0100
TZOFFSETTO:+0200
TZNAME:CEST
DTSTART:20240331T010000
END:DAYLIGHT
BEGIN:STANDARD
TZOFFSETFROM:+0200
TZOFFSETTO:+0100
TZNAME:CET
DTSTART:20241027T010000
END:STANDARD
END:VTIMEZONE
BEGIN:VEVENT
DTSTART;TZID=Europe/Stockholm:20231003T100000
DTEND;TZID=Europe/Stockholm:20231003T143000
DTSTAMP:20260421T120447
CREATED:20230919T085647Z
LAST-MODIFIED:20230919T090641Z
UID:9544-1696327200-1696343400@www.nordiskatextilakademin.se
SUMMARY:Seminariedag
DESCRIPTION:Välkommen till ett seminarium i två delar där vi samlar deltagarna från för- och eftermiddagen för gemensam lunch. Under förmiddagen diskuteras vilken typ av kunskap framtida medarbetare bör ha för att uppfylla de förväntade målen för en cirkulär industri? Och under eftermiddagen fördjupar vi oss i hur vi tillsammans kan skapa möjligheter som bidrar till en lönsam cirkulär textil produktion och återvinning? Vi pratar möjligheter & utmaningar inför det cirkulära skiftet. Seminariumet arrangeras som en del av Näringslivsdagarna i Borås av Textile Movement\, Transitions EU och Nordiska Textilakademin. Läs mer och boka din plats här. 
URL:https://www.nordiskatextilakademin.se/kalender/seminariedag/
LOCATION:Nordiska Textilakademin\, Skaraborgsvägen 3A\, Borås\, Västra Götaland\, 50630\, Sweden
ATTACH;FMTTYPE=image/png:https://www.nordiskatextilakademin.se/wp-content/uploads/2023/09/Save-the-date-transitions-VER4-600-×-400-px.png
ORGANIZER;CN="Nordiska Textilakademin":MAILTO:info@nordiskatextilakademin.se
END:VEVENT
BEGIN:VEVENT
DTSTART;VALUE=DATE:20231005
DTEND;VALUE=DATE:20231006
DTSTAMP:20260421T120447
CREATED:20230919T075431Z
LAST-MODIFIED:20230919T075431Z
UID:9482-1696464000-1696550399@www.nordiskatextilakademin.se
SUMMARY:Habit- Modebranschens dag
DESCRIPTION:Den 5 oktober på Habit– Modebranschens dag kommer vi på Nordiska Textilakademin stå med monter. Kom och träffa oss där!
URL:https://www.nordiskatextilakademin.se/kalender/habit-modebranschens-dag/
LOCATION:Auktionsverket Kulturarena\, Tredje långgatan 9\, Göteborg\, Sverige
ATTACH;FMTTYPE=image/jpeg:https://www.nordiskatextilakademin.se/wp-content/uploads/2023/09/2er0a265n8ksm0lb.jpeg
END:VEVENT
BEGIN:VEVENT
DTSTART;VALUE=DATE:20231005
DTEND;VALUE=DATE:20231006
DTSTAMP:20260421T120447
CREATED:20230919T075628Z
LAST-MODIFIED:20230919T080047Z
UID:9474-1696464000-1696550399@www.nordiskatextilakademin.se
SUMMARY:Näringslivsdagen i Borås
DESCRIPTION:Under Näringslivsdagen den 5 oktober kommer Nordiska Textilakademin att deltaga. Ses där!
URL:https://www.nordiskatextilakademin.se/kalender/naringslivsdagen-i-boras/
LOCATION:Åhaga\, Lillåvägen 4\, Borås\, 504 33\, Sverige
ATTACH;FMTTYPE=image/png:https://www.nordiskatextilakademin.se/wp-content/uploads/2023/09/naringslivsdagarna_mobil.png
END:VEVENT
BEGIN:VEVENT
DTSTART;TZID=Europe/Stockholm:20231012T090000
DTEND;TZID=Europe/Stockholm:20231012T130000
DTSTAMP:20260421T120447
CREATED:20230919T075800Z
LAST-MODIFIED:20230919T093406Z
UID:9466-1697101200-1697115600@www.nordiskatextilakademin.se
SUMMARY:"Säkra kompetensen"- workshop om strategisk kompetensförsörjning i Herrljunga/Vårgårda
DESCRIPTION:Vill du säkra din affär med rätt kompetens? Anmäl dig då till vår workshop ”Säkra kompetensen”. \nTillsammans med andra företag i Borås med omnejd får du ta del av handfasta metoder och verktyg för att arbeta strategiskt med kompetensförsörjningsfrågor. Se workshoppen som en kickstart! \nVi börjar med att använda ARUBA modellen för att göra en självskattning av hur företaget arbetar med att Attrahera\, Rekrytera\, Utveckla\, Behålla och även Avveckla kompetens idag. \nEn omvärldsanalys ger oss förutsättningar och sedan är det dags för konkreta metoder och verktyg. Lunch ingår och vi avslutar med att stämma av hur nästa steg ser ut för dig internt. \nWorkshopen är en del av Kompetensakademin\, som drivs av Nordiska Textilakademin tillsammans med IUC Sjuhärad och finansieras av Boråsregionen Sjuhärads kommunalförbund. Det är kostnadsfritt att delta. \nVi erbjuder ett individuellt uppföljningssamtal för ditt företag efter workshoppen\, också kostnadsfri såklart. \nVälkommen med din anmälan här.
URL:https://www.nordiskatextilakademin.se/kalender/sakra-kompetensen-workshop-om-strategisk-kompetensforsorjning-i-herrljunga-vargarda/
LOCATION:Herrljunga Hotell och Konferens\, Järnvägsplatsen 4\, Herrljunga\, 52430\, Sverige
ATTACH;FMTTYPE=image/png:https://www.nordiskatextilakademin.se/wp-content/uploads/2023/09/KA-bild-utan-text-1920x1080px.png
ORGANIZER;CN="Nordiska Textilakademin":MAILTO:info@nordiskatextilakademin.se
END:VEVENT
BEGIN:VEVENT
DTSTART;TZID=Europe/Stockholm:20231012T100000
DTEND;TZID=Europe/Stockholm:20231012T173000
DTSTAMP:20260421T120447
CREATED:20230919T075248Z
LAST-MODIFIED:20251128T134542Z
UID:9489-1697104800-1697131800@www.nordiskatextilakademin.se
SUMMARY:TEKO-dagen
DESCRIPTION:Under TEKO-dagen kommer Nordiska Textilakademins VD\, Christian Lundell\, att vara en av dagens talare. Vi ses där!
URL:https://www.nordiskatextilakademin.se/kalender/teko-dagen/
LOCATION:Textile Fashion Center\, Skaraborgsvägen 3A\, Borås\, Västra Götaland\, 506 30\, Sverige
ATTACH;FMTTYPE=image/webp:https://www.nordiskatextilakademin.se/wp-content/uploads/2023/09/teko-header-transforming-textiles-utan-save-the-date.webp
END:VEVENT
END:VCALENDAR