BEGIN:VCALENDAR
VERSION:2.0
PRODID:-//Nordiska Textilakademin - ECPv6.15.17//NONSGML v1.0//EN
CALSCALE:GREGORIAN
METHOD:PUBLISH
X-WR-CALNAME:Nordiska Textilakademin
X-ORIGINAL-URL:https://www.nordiskatextilakademin.se
X-WR-CALDESC:Händelser för Nordiska Textilakademin
REFRESH-INTERVAL;VALUE=DURATION:PT1H
X-Robots-Tag:noindex
X-PUBLISHED-TTL:PT1H
BEGIN:VTIMEZONE
TZID:Europe/Stockholm
BEGIN:DAYLIGHT
TZOFFSETFROM:+0100
TZOFFSETTO:+0200
TZNAME:CEST
DTSTART:20220327T010000
END:DAYLIGHT
BEGIN:STANDARD
TZOFFSETFROM:+0200
TZOFFSETTO:+0100
TZNAME:CET
DTSTART:20221030T010000
END:STANDARD
BEGIN:DAYLIGHT
TZOFFSETFROM:+0100
TZOFFSETTO:+0200
TZNAME:CEST
DTSTART:20230326T010000
END:DAYLIGHT
BEGIN:STANDARD
TZOFFSETFROM:+0200
TZOFFSETTO:+0100
TZNAME:CET
DTSTART:20231029T010000
END:STANDARD
BEGIN:DAYLIGHT
TZOFFSETFROM:+0100
TZOFFSETTO:+0200
TZNAME:CEST
DTSTART:20240331T010000
END:DAYLIGHT
BEGIN:STANDARD
TZOFFSETFROM:+0200
TZOFFSETTO:+0100
TZNAME:CET
DTSTART:20241027T010000
END:STANDARD
END:VTIMEZONE
BEGIN:VEVENT
DTSTART;TZID=Europe/Stockholm:20231109T070000
DTEND;TZID=Europe/Stockholm:20231109T084500
DTSTAMP:20260421T104334
CREATED:20231018T075601Z
LAST-MODIFIED:20231018T075601Z
UID:9772-1699513200-1699519500@www.nordiskatextilakademin.se
SUMMARY:Frukostmöte med prisad företagsledare
DESCRIPTION:Han blev utsedd till Årets Företagare i Borås 2021 och i hela Västra Götaland 2022. Hans bolag förser 50 länder med skyddskläder som räddar liv. Nu kommer Jörgen Lillieroth\, vd och ägare till TST Sweden AB\, till Nordiska Textilakademin. Hör honom berätta om företagets framgångsresa och utvecklingen sedan starten 1990 och inte minst hans arbete med att alla medarbetare ska må bra. \nFrukostmötet arrangeras av projekt Kompetensakademin som syftar till att öka attraktionskraften hos företag i Sjuhärad. Projektet finansieras av Boråsregionen och drivs av Nordiska Textilakademin i samarbete med IUC Sjuhärad. \nVälkommen med din anmälan här!
URL:https://www.nordiskatextilakademin.se/kalender/frukostmote-med-prisad-foretagsledare/
LOCATION:Nordiska Textilakademin\, Skaraborgsvägen 3A\, Borås\, Västra Götaland\, 50630\, Sweden
ATTACH;FMTTYPE=image/jpeg:https://www.nordiskatextilakademin.se/wp-content/uploads/2023/10/IMG_1390.jpg
ORGANIZER;CN="Nordiska Textilakademin":MAILTO:info@nordiskatextilakademin.se
END:VEVENT
BEGIN:VEVENT
DTSTART;TZID=Europe/Stockholm:20231109T090000
DTEND;TZID=Europe/Stockholm:20231109T130000
DTSTAMP:20260421T104334
CREATED:20230919T075138Z
LAST-MODIFIED:20251128T134627Z
UID:9469-1699520400-1699534800@www.nordiskatextilakademin.se
SUMMARY:"Säkra kompetensen"- workshop om strategisk kompetensförsörjning i Ulricehamn
DESCRIPTION:Vill du säkra din affär med rätt kompetens? Anmäl dig då till vår workshop ”Säkra kompetensen”. \nTillsammans med andra företag i Borås med omnejd får du ta del av handfasta metoder och verktyg för att arbeta strategiskt med kompetensförsörjningsfrågor. Se workshoppen som en kickstart! \nVi börjar med att använda ARUBA modellen för att göra en självskattning av hur företaget arbetar med att Attrahera\, Rekrytera\, Utveckla\, Behålla och även Avveckla kompetens idag. \nEn omvärldsanalys ger oss förutsättningar och sedan är det dags för konkreta metoder och verktyg. Lunch ingår och vi avslutar med att stämma av hur nästa steg ser ut för dig internt. \nWorkshopen är en del av Kompetensakademin\, som drivs av Nordiska Textilakademin tillsammans med IUC Sjuhärad och finansieras av Boråsregionen Sjuhärads kommunalförbund. Det är kostnadsfritt att delta. \nVi erbjuder ett individuellt uppföljningssamtal för ditt företag efter workshoppen\, också kostnadsfri såklart. \nVälkommen med din anmälan här.
URL:https://www.nordiskatextilakademin.se/kalender/sakra-kompetensen-workshop-om-strategisk-kompetensforsorjning-i-ulricehamn/
LOCATION:Ej fastställt\, Ulricehamn
ATTACH;FMTTYPE=image/png:https://www.nordiskatextilakademin.se/wp-content/uploads/2023/09/KA-bild-utan-text-1920x1080px.png
ORGANIZER;CN="Nordiska Textilakademin":MAILTO:info@nordiskatextilakademin.se
END:VEVENT
BEGIN:VEVENT
DTSTART;VALUE=DATE:20231114
DTEND;VALUE=DATE:20231116
DTSTAMP:20260421T104334
CREATED:20230919T074906Z
LAST-MODIFIED:20230919T074906Z
UID:9494-1699920000-1700092799@www.nordiskatextilakademin.se
SUMMARY:Borås Textile Days
DESCRIPTION:Även i år kommer vi på Nordiska Textilakademin vara med och anordna evenemang under Borås Textile Days. Stolta att presentera WOOL talks samt Fashion Transformation som inträffar onsdagen den 15 november. Ni vill inte missa årets branschevent\, vi ses där!
URL:https://www.nordiskatextilakademin.se/kalender/boras-textile-days/
LOCATION:Textile Fashion Center\, Skaraborgsvägen 3A\, Borås\, Västra Götaland\, 506 30\, Sverige
ATTACH;FMTTYPE=image/jpeg:https://www.nordiskatextilakademin.se/wp-content/uploads/2023/09/BTD1-1.jpeg
END:VEVENT
BEGIN:VEVENT
DTSTART;TZID=Europe/Stockholm:20231115T093000
DTEND;TZID=Europe/Stockholm:20231115T153000
DTSTAMP:20260421T104334
CREATED:20230921T102044Z
LAST-MODIFIED:20251128T134429Z
UID:9614-1700040600-1700062200@www.nordiskatextilakademin.se
SUMMARY:WOOLTALKS i Borås
DESCRIPTION:Välkommen till WOOLTALKS\nUtmaningar och möjligheter för lokal ull som en resurs på industriell nivå\nVälkommen till en dag fylld av inspirerande föredrag\, erfarenhetsutbyten och nätverkande om den svenska ullen som en resurs på industriell nivå. Vi arrangörer vill att Wooltalks ska stärka nätverken och inspirera deltagarna till utvecklingen kring svensk ull. \n• Vad kan vi i Sverige lära oss från europeiska ullförädlare?\n• Vilka utmaningar och möjligheter finns idag för att ta tillvara ullen till större volymer i Sverige? \nLäs mer och anmäl dig här.
URL:https://www.nordiskatextilakademin.se/kalender/wooltalks-i-boras/
LOCATION:Textile Fashion Center\, Skaraborgsvägen 3A\, Borås\, Västra Götaland\, 506 30\, Sverige
ATTACH;FMTTYPE=image/png:https://www.nordiskatextilakademin.se/wp-content/uploads/2023/09/Herobild-pa-eventsidan.png
ORGANIZER;CN="Nordiska Textilakademin":MAILTO:info@nordiskatextilakademin.se
END:VEVENT
BEGIN:VEVENT
DTSTART;TZID=Europe/Stockholm:20231115T130000
DTEND;TZID=Europe/Stockholm:20231115T140000
DTSTAMP:20260421T104334
CREATED:20231010T140041Z
LAST-MODIFIED:20250915T102554Z
UID:9705-1700053200-1700056800@www.nordiskatextilakademin.se
SUMMARY:Rapportsläpp: Fashion Transformations belyser transformationen som sker i modeindustrin
DESCRIPTION:Swedish Fashion Council presenterar under Borås Textile Days tillsammans med nyckelspelare från branschen den andra upplagan av rapporten ’Fashion Transformations’. Vi gör det ihop med en djupdykning inom ämnen som står högst upp på agendan för framtidens modeindustri. \n’Fashion Transformations’ är initierad och framtagen av Swedish Fashion Council\, tillsammans med Svensk Handel. Rapporten är den första av sitt slag att belysa transformationen som sker i modeindustrin samt hur definitionen av vad som innefattar mode har förändrats. \nSupporting partners till Fashion Transformations är; Nordiska Textilakademin\, Textile Movement\, Västra Götalandsregionen\, Borås Stad\, ACTE\, Science Park Borås\, Textile & Fashion 2030\, Textilhögskolan Borås\, Stockholm Fashion District och Trade Partners Sweden. \n 
URL:https://www.nordiskatextilakademin.se/kalender/rapportslapp-fashion-transformations-belyser-transformationen-som-sker-i-modeindustrin/
LOCATION:VirtualLocation
ATTACH;FMTTYPE=image/png:https://www.nordiskatextilakademin.se/wp-content/uploads/2023/10/Skarmavbild-2023-08-31-kl.-16.29.26.png
ORGANIZER;CN="Nordiska Textilakademin":MAILTO:info@nordiskatextilakademin.se
END:VEVENT
BEGIN:VEVENT
DTSTART;VALUE=DATE:20231123
DTEND;VALUE=DATE:20231126
DTSTAMP:20260421T104334
CREATED:20230919T072847Z
LAST-MODIFIED:20230919T080650Z
UID:9498-1700697600-1700956799@www.nordiskatextilakademin.se
SUMMARY:Kunskap och framtid i Göteborg
DESCRIPTION:Den 23 till 25 november kommer vi på Nordiska Textilakademin att stå i monter och prata om utbildning och jobbmöjligheter! Hoppas vi ses där!
URL:https://www.nordiskatextilakademin.se/kalender/kunskap-och-framtid-i-goteborg/
LOCATION:Svenska Mässan\, Mässansgata\, Göteborg\, Sverige
ATTACH;FMTTYPE=image/jpeg:https://www.nordiskatextilakademin.se/wp-content/uploads/2023/09/kunskapframtid-utstallarbanners-1200x628-v2.jpeg
END:VEVENT
END:VCALENDAR