BEGIN:VCALENDAR
VERSION:2.0
PRODID:-//Nordiska Textilakademin - ECPv6.15.17//NONSGML v1.0//EN
CALSCALE:GREGORIAN
METHOD:PUBLISH
X-WR-CALNAME:Nordiska Textilakademin
X-ORIGINAL-URL:https://www.nordiskatextilakademin.se
X-WR-CALDESC:Händelser för Nordiska Textilakademin
REFRESH-INTERVAL;VALUE=DURATION:PT1H
X-Robots-Tag:noindex
X-PUBLISHED-TTL:PT1H
BEGIN:VTIMEZONE
TZID:Europe/Stockholm
BEGIN:DAYLIGHT
TZOFFSETFROM:+0100
TZOFFSETTO:+0200
TZNAME:CEST
DTSTART:20230326T010000
END:DAYLIGHT
BEGIN:STANDARD
TZOFFSETFROM:+0200
TZOFFSETTO:+0100
TZNAME:CET
DTSTART:20231029T010000
END:STANDARD
BEGIN:DAYLIGHT
TZOFFSETFROM:+0100
TZOFFSETTO:+0200
TZNAME:CEST
DTSTART:20240331T010000
END:DAYLIGHT
BEGIN:STANDARD
TZOFFSETFROM:+0200
TZOFFSETTO:+0100
TZNAME:CET
DTSTART:20241027T010000
END:STANDARD
BEGIN:DAYLIGHT
TZOFFSETFROM:+0100
TZOFFSETTO:+0200
TZNAME:CEST
DTSTART:20250330T010000
END:DAYLIGHT
BEGIN:STANDARD
TZOFFSETFROM:+0200
TZOFFSETTO:+0100
TZNAME:CET
DTSTART:20251026T010000
END:STANDARD
END:VTIMEZONE
BEGIN:VEVENT
DTSTART;TZID=Europe/Stockholm:20240314T110000
DTEND;TZID=Europe/Stockholm:20240314T180000
DTSTAMP:20260421T165104
CREATED:20231201T151100Z
LAST-MODIFIED:20251128T123150Z
UID:9981-1710414000-1710439200@www.nordiskatextilakademin.se
SUMMARY:YH-mässa i Göteborg
DESCRIPTION:Vi kommer att medverka på Yrkeshögskolemässan i Göteborg som anordnas av Studentum. Välkomna dit och prata med oss om vår skola och våra utbildningar. \nLäs mer om YH-mässorna här. 
URL:https://www.nordiskatextilakademin.se/kalender/yh-massa-i-goteborg/
LOCATION:Surr Arena på Brewhouse\, Åvägen 24\, Göteborg\, 412 51\, Sverige
ATTACH;FMTTYPE=image/png:https://www.nordiskatextilakademin.se/wp-content/uploads/2023/12/Skarmavbild-2023-12-01-kl.-16.05.38.png
END:VEVENT
END:VCALENDAR